BEGIN:VCALENDAR
METHOD:PUBLISH
VERSION:2.0
PRODID:-//Whiskey Tasting #1 - Willett Distillery sponsored by Savannah Distributors//Calendar//EN

BEGIN:VEVENT
SUMMARY:Dunwoody | Whiskey Tasting #1 - Willett Distillery sponsored by Savannah Distributors
DESCRIPTION:Our first whiskey tasting will be in Politan Row at Ashford Lane. It features whiskey from Willett Distillery and is sponsored by Savannah Distributors …  totally free to anyone who wants to attend! This is a great way to help sell raffle tickets: we hope it’s much more fun to invite people to a free whiskey tasting than it is to badger them into buying a raffle ticket. Are you interesting? Please RSVP for this event. 
X-ALT-DESC:<p class="MsoNormal" style="margin-bottom: 0in;">Our first whiskey tasting will be in Politan Row at Ashford Lane. It features whiskey from Willett Distillery and is sponsored by Savannah Distributors …&nbsp;&nbsp;<i>totally free to anyone who wants to attend!</i>&nbsp;This is a great way to help sell raffle tickets: we hope it’s much more fun to invite people to a free whiskey tasting than it is to badger them into buying a raffle ticket.&nbsp;</p><p class="MsoNormal" style="margin-bottom: 0in;"><span style="font-weight: bolder;"><span style="font-weight: 400;"><br></span></span></p><p class="MsoNormal" style="margin-bottom: 0in;"><span style="font-weight: bolder;"><span style="font-weight: 400;">Are you interesting?&nbsp;</span></span><a href="http://willett%20distillery%20whiskey%20tasting%20at%20streakers%20pub%20eventbrite.com%20apple-touch-icon-180x180.png/" target="_blank" style="color: rgb(13, 59, 124);">Please RSVP for this event</a>.&nbsp;</p>
UID:Event9076
DTSTART:20251025T200000Z
DTEND:20251025T210000Z
DTSTAMP:20251015T025443Z
LAST-MODIFIED:20251015T025443Z
END:VEVENT

END:VCALENDAR