BEGIN:VCALENDAR
METHOD:PUBLISH
VERSION:2.0
PRODID:-//USO - Volunteer Opportunity//Calendar//EN

BEGIN:VEVENT
SUMMARY:Dunwoody | USO - Volunteer Opportunity
DESCRIPTION:Thursday October 30\, 2025 will be Rotary Club of Dunwoody USO Volunteer Day. We will serve our service personnel and family members an “All American” lunch of hot dogs with all the condiments\, potato chips\, fresh fruit\, snack bars\, home baked cookies\, bottled water AND a portion of baked Ziti & Mom’s meatball.  Volunteers: We would like to have eight volunteers for the day from 9 AM to 3 PM. Duties vary from greeter\, cookie packer\, hot dog grill mate\, server\, bag monitor\, and "all around volunteer"  to handle anything else that needs to be done to serve our military service personnel. Let Charlie Augello know if you can join us.Home baked cookies: Only the best for our military personnel. We ask the bakers to bake about 60 of their favorite hardy cookies. They can be delivered in bulk to the E.48th Street Market on 10/27\, 28 and 29 before 6PM. We will repack them on the day of service. Please note hardy cookies are best since we recommend that volunteers take MARTA. Let Charlie know if you plan to bake. Transportation: It is strongly recommended that volunteers take MARTA to the airport instead of driving due to the continued limited parking because of construction at the airport. Other Ways You Can Help: Members who are unable to volunteer can participate by donating bottled water (small bottles) and snack bars such as Nature Valley available at Costco at reasonable prices. Items can be dropped off at the E.48th Street Market on 10/15 and 16 before 6PM. A shout out to our new members please consider volunteering at the USO\, it is one of the most satisfying and rewarding day of service.Special Shout Out to New Members: Please consider volunteering at the USO\, it is one of the most satisfying and rewarding day of service.Please contact Charlie Augello at Italian@e48stmarket.com  if you would like to be a volunteer or be a cookie baker. 
X-ALT-DESC:<div class="blog-body"><div class="row" style="--bs-gutter-y: 0; margin-top: 0px; margin-right: -12px; margin-left: -12px;"><div class="col-sm-7" style="width: 416.87px; padding-right: 12px; padding-left: 12px; margin-top: 0px;"><p class="MsoNormal">Thursday October 30, 2025 will be&nbsp;<span style="font-weight: bolder;">Rotary Club of Dunwoody USO Volunteer Day</span>. We will serve our service personnel and family members an “All American” lunch of hot dogs with all the condiments, potato chips, fresh fruit, snack bars, home baked cookies, bottled water AND a portion of baked Ziti &amp; Mom’s meatball.&nbsp;&nbsp;</p><p class="MsoNormal"><span style="font-weight: bolder;">Volunteers:&nbsp;</span>We would like to have eight volunteers for the day from 9 AM to 3 PM. Duties vary from greeter, cookie packer, hot dog grill mate, server, bag monitor, and "all around volunteer"&nbsp; to handle anything else that needs to be done to serve our military service personnel. Let Charlie Augello know if you can join us.</p><p class="MsoNormal"><span style="font-weight: bolder;">Home baked cookies:&nbsp;</span>Only the best for our military personnel. We ask the bakers to bake about 60 of their favorite hardy cookies. They can be delivered in bulk to the E.48th Street Market on 10/27, 28 and 29 before 6PM. We will repack them on the day of service. Please note hardy cookies are best since we recommend that volunteers take MARTA. Let Charlie know if you plan to bake.&nbsp;</p><p class="MsoNormal"><span style="font-weight: bolder;">Transportation:&nbsp;</span>It is strongly recommended that volunteers take MARTA to the airport instead of driving due to the continued limited parking because of construction at the airport.&nbsp;</p><p class="MsoNormal"><span style="font-weight: bolder;">Other Ways You Can Help:&nbsp;</span>Members who are unable to volunteer can participate by donating bottled water (small bottles) and snack bars such as Nature Valley available at Costco at reasonable prices. Items can be dropped off at the E.48th Street Market on 10/15 and 16 before 6PM. A shout out to our new members please consider volunteering at the USO, it is one of the most satisfying and rewarding day of service.</p><p class="MsoNormal"><span style="font-weight: bolder;">Special Shout Out to New Members:</span>&nbsp;Please consider volunteering at the USO, it is one of the most satisfying and rewarding day of service.<span style="font-weight: bolder;"></span><i><span style="font-size: 18pt; font-family: Georgia, serif;"></span></i></p><p class="MsoNormal"><i></i></p><p class="MsoNormal"><span style="font-weight: bolder;">Please contact Charlie Augello at Italian@e48stmarket.com &nbsp;if you would like to be a volunteer or be a cookie baker.&nbsp;</span></p></div></div></div><div class="credit" style="font-size: 12.8px; margin-top: 0.5em; padding-top: 1em;"></div>
UID:Event9082
DTSTART:20251030T130000Z
DTEND:20251030T210000Z
DTSTAMP:20251015T200751Z
LAST-MODIFIED:20251015T200751Z
END:VEVENT

END:VCALENDAR